BEGIN:VCALENDAR
VERSION:2.0
PRODID:spatie/icalendar-generator
DESCRIPTION:Events from Ministering to the Homeless in Oklahoma
X-WR-CALDESC:Events from Ministering to the Homeless in Oklahoma
REFRESH-INTERVAL;VALUE=DURATION:PT1440M
X-PUBLISHED-TTL:PT1440M
BEGIN:VTIMEZONE
TZID:Etc/GMT+0
BEGIN:STANDARD
DTSTART:20250716T140000Z
TZOFFSETFROM:+0000
TZOFFSETTO:+0000
END:STANDARD
END:VTIMEZONE
BEGIN:VTIMEZONE
TZID:UTC
BEGIN:STANDARD
DTSTART:20250727T160516Z
TZOFFSETFROM:+0000
TZOFFSETTO:+0000
END:STANDARD
END:VTIMEZONE
BEGIN:VEVENT
UID:551-2
DTSTAMP:20260423T160516Z
SUMMARY:Weekly Feed the Homeless
LOCATION:My Church 2335 W State Hwy 152  Mustang Oklahoma
ORGANIZER;CN=Panaceansystems:MAILTO:Panaceansystems@yahoo.com
RRULE:FREQ=WEEKLY;UNTIL=20261227T000000Z
DTSTART;TZID=Etc/GMT+0:20260412T140000
DTEND;TZID=Etc/GMT+0:20260412T160000
X-ALT-DESC;FMTTYPE=TEXT/HTML:Go to various homeless areas and minister to t
 hem.
CATEGORIES:General,  Food Preparation,  Food/clothing Distribution
URL;VALUE=URI:https://triadministries.org/mc-events/weekly-feed-the-homeles
 s/?mc_id=551
METHOD:PUBLISH
END:VEVENT
END:VCALENDAR